BEGIN:VCALENDAR
VERSION:2.0
PRODID:-//Les Clés de la Ferme - ECPv6.15.20//NONSGML v1.0//EN
CALSCALE:GREGORIAN
METHOD:PUBLISH
X-ORIGINAL-URL:https://lesclesdelaferme.com
X-WR-CALDESC:Évènements pour Les Clés de la Ferme
REFRESH-INTERVAL;VALUE=DURATION:PT1H
X-Robots-Tag:noindex
X-PUBLISHED-TTL:PT1H
BEGIN:VTIMEZONE
TZID:Europe/Paris
BEGIN:DAYLIGHT
TZOFFSETFROM:+0100
TZOFFSETTO:+0200
TZNAME:CEST
DTSTART:20220327T010000
END:DAYLIGHT
BEGIN:STANDARD
TZOFFSETFROM:+0200
TZOFFSETTO:+0100
TZNAME:CET
DTSTART:20221030T010000
END:STANDARD
BEGIN:DAYLIGHT
TZOFFSETFROM:+0100
TZOFFSETTO:+0200
TZNAME:CEST
DTSTART:20230326T010000
END:DAYLIGHT
BEGIN:STANDARD
TZOFFSETFROM:+0200
TZOFFSETTO:+0100
TZNAME:CET
DTSTART:20231029T010000
END:STANDARD
BEGIN:DAYLIGHT
TZOFFSETFROM:+0100
TZOFFSETTO:+0200
TZNAME:CEST
DTSTART:20240331T010000
END:DAYLIGHT
BEGIN:STANDARD
TZOFFSETFROM:+0200
TZOFFSETTO:+0100
TZNAME:CET
DTSTART:20241027T010000
END:STANDARD
BEGIN:DAYLIGHT
TZOFFSETFROM:+0100
TZOFFSETTO:+0200
TZNAME:CEST
DTSTART:20250330T010000
END:DAYLIGHT
BEGIN:STANDARD
TZOFFSETFROM:+0200
TZOFFSETTO:+0100
TZNAME:CET
DTSTART:20251026T010000
END:STANDARD
BEGIN:DAYLIGHT
TZOFFSETFROM:+0100
TZOFFSETTO:+0200
TZNAME:CEST
DTSTART:20260329T010000
END:DAYLIGHT
BEGIN:STANDARD
TZOFFSETFROM:+0200
TZOFFSETTO:+0100
TZNAME:CET
DTSTART:20261025T010000
END:STANDARD
BEGIN:DAYLIGHT
TZOFFSETFROM:+0100
TZOFFSETTO:+0200
TZNAME:CEST
DTSTART:20270328T010000
END:DAYLIGHT
BEGIN:STANDARD
TZOFFSETFROM:+0200
TZOFFSETTO:+0100
TZNAME:CET
DTSTART:20271031T010000
END:STANDARD
BEGIN:DAYLIGHT
TZOFFSETFROM:+0100
TZOFFSETTO:+0200
TZNAME:CEST
DTSTART:20280326T010000
END:DAYLIGHT
BEGIN:STANDARD
TZOFFSETFROM:+0200
TZOFFSETTO:+0100
TZNAME:CET
DTSTART:20281029T010000
END:STANDARD
BEGIN:DAYLIGHT
TZOFFSETFROM:+0100
TZOFFSETTO:+0200
TZNAME:CEST
DTSTART:20290325T010000
END:DAYLIGHT
BEGIN:STANDARD
TZOFFSETFROM:+0200
TZOFFSETTO:+0100
TZNAME:CET
DTSTART:20291028T010000
END:STANDARD
BEGIN:DAYLIGHT
TZOFFSETFROM:+0100
TZOFFSETTO:+0200
TZNAME:CEST
DTSTART:20300331T010000
END:DAYLIGHT
BEGIN:STANDARD
TZOFFSETFROM:+0200
TZOFFSETTO:+0100
TZNAME:CET
DTSTART:20301027T010000
END:STANDARD
BEGIN:DAYLIGHT
TZOFFSETFROM:+0100
TZOFFSETTO:+0200
TZNAME:CEST
DTSTART:20310330T010000
END:DAYLIGHT
BEGIN:STANDARD
TZOFFSETFROM:+0200
TZOFFSETTO:+0100
TZNAME:CET
DTSTART:20311026T010000
END:STANDARD
BEGIN:DAYLIGHT
TZOFFSETFROM:+0100
TZOFFSETTO:+0200
TZNAME:CEST
DTSTART:20320328T010000
END:DAYLIGHT
BEGIN:STANDARD
TZOFFSETFROM:+0200
TZOFFSETTO:+0100
TZNAME:CET
DTSTART:20321031T010000
END:STANDARD
BEGIN:DAYLIGHT
TZOFFSETFROM:+0100
TZOFFSETTO:+0200
TZNAME:CEST
DTSTART:20330327T010000
END:DAYLIGHT
BEGIN:STANDARD
TZOFFSETFROM:+0200
TZOFFSETTO:+0100
TZNAME:CET
DTSTART:20331030T010000
END:STANDARD
BEGIN:DAYLIGHT
TZOFFSETFROM:+0100
TZOFFSETTO:+0200
TZNAME:CEST
DTSTART:20340326T010000
END:DAYLIGHT
BEGIN:STANDARD
TZOFFSETFROM:+0200
TZOFFSETTO:+0100
TZNAME:CET
DTSTART:20341029T010000
END:STANDARD
BEGIN:DAYLIGHT
TZOFFSETFROM:+0100
TZOFFSETTO:+0200
TZNAME:CEST
DTSTART:20350325T010000
END:DAYLIGHT
BEGIN:STANDARD
TZOFFSETFROM:+0200
TZOFFSETTO:+0100
TZNAME:CET
DTSTART:20351028T010000
END:STANDARD
BEGIN:DAYLIGHT
TZOFFSETFROM:+0100
TZOFFSETTO:+0200
TZNAME:CEST
DTSTART:20360330T010000
END:DAYLIGHT
BEGIN:STANDARD
TZOFFSETFROM:+0200
TZOFFSETTO:+0100
TZNAME:CET
DTSTART:20361026T010000
END:STANDARD
BEGIN:DAYLIGHT
TZOFFSETFROM:+0100
TZOFFSETTO:+0200
TZNAME:CEST
DTSTART:20370329T010000
END:DAYLIGHT
BEGIN:STANDARD
TZOFFSETFROM:+0200
TZOFFSETTO:+0100
TZNAME:CET
DTSTART:20371025T010000
END:STANDARD
END:VTIMEZONE
BEGIN:VEVENT
DTSTART;VALUE=DATE:20230629
DTEND;VALUE=DATE:20500630
DTSTAMP:20260419T183823
CREATED:20230629T161613Z
LAST-MODIFIED:20230704T131522Z
UID:3743-1687996800-2540159999@lesclesdelaferme.com
SUMMARY:Escape Game Plein Tarif
DESCRIPTION:Pour les enfants de moins de 12 ans.
URL:https://lesclesdelaferme.com/event/escape-game-plein-tarif/
LOCATION:Chevannes\, 6 Route du Moulin Neuf\, Chevannes\, 45210\, France
CATEGORIES:Escape game
ATTACH;FMTTYPE=image/jpeg:https://lesclesdelaferme.com/wp-content/uploads/2023/06/IMG-20230704-WA0009.jpg
END:VEVENT
BEGIN:VEVENT
DTSTART;VALUE=DATE:20230629
DTEND;VALUE=DATE:20500630
DTSTAMP:20260419T183823
CREATED:20230629T173342Z
LAST-MODIFIED:20240617T121800Z
UID:3747-1687996800-2540159999@lesclesdelaferme.com
SUMMARY:Visite Libre
DESCRIPTION:Ce ticket vous permet de profiter de la ferme et de visiter ses différents espaces à votre rythme. Un plan et des panneaux informatifs vous permettent d’apprendre par vous même. Des jeux pour les enfants sont disposés sur le parcours pour que les enfants aussi puissent apprendre avec vous. \n\n Pour les enfants de moins de 6 ans.
URL:https://lesclesdelaferme.com/event/visite-libre/
LOCATION:Chevannes\, 6 Route du Moulin Neuf\, Chevannes\, 45210\, France
CATEGORIES:Visites Libres
ATTACH;FMTTYPE=image/jpeg:https://lesclesdelaferme.com/wp-content/uploads/2023/06/IMG-20230704-WA0008-1-e1688464918273.jpg
END:VEVENT
BEGIN:VEVENT
DTSTART;VALUE=DATE:20230629
DTEND;VALUE=DATE:20500630
DTSTAMP:20260419T183823
CREATED:20230629T190737Z
LAST-MODIFIED:20230704T131251Z
UID:3803-1687996800-2540159999@lesclesdelaferme.com
SUMMARY:Escape Game Groupe de 6 adultes (plus de 12 ans) - Tarif réduit
DESCRIPTION:Bénéficiez d’un tarif réduit pour les groupes de 6 adultes (à partir de 12 ans).
URL:https://lesclesdelaferme.com/event/escape-game-groupe-de-6-adultes-plus-de-12-ans-tarif-reduit/
LOCATION:Chevannes\, 6 Route du Moulin Neuf\, Chevannes\, 45210\, France
CATEGORIES:Escape game
ATTACH;FMTTYPE=image/jpeg:https://lesclesdelaferme.com/wp-content/uploads/2023/06/WhatsApp-Image-2023-07-04-at-11.29.22.jpg
END:VEVENT
BEGIN:VEVENT
DTSTART;VALUE=DATE:20230629
DTEND;VALUE=DATE:20500630
DTSTAMP:20260419T183823
CREATED:20240214T111922Z
LAST-MODIFIED:20240612T142445Z
UID:4509-1687996800-2540159999@lesclesdelaferme.com
SUMMARY:Pack Famille - Visite Libre
DESCRIPTION:Au delà de 4 personnes\, pensez à prendre un pack famille pour visiter librement la ferme.\nPour 4 personnes de plus de 6 ans\, le « pack famille » sera à 20 euros.\n\n Pour les enfants de moins de 6 ans.
URL:https://lesclesdelaferme.com/event/pack-famille-visite-libre/
LOCATION:Chevannes\, 6 Route du Moulin Neuf\, Chevannes\, 45210\, France
CATEGORIES:Visites Libres
ATTACH;FMTTYPE=image/jpeg:https://lesclesdelaferme.com/wp-content/uploads/2023/12/IMG_20231022_143329-scaled.jpg
END:VEVENT
BEGIN:VEVENT
DTSTART;VALUE=DATE:20230629
DTEND;VALUE=DATE:20500630
DTSTAMP:20260419T183823
CREATED:20240214T112912Z
LAST-MODIFIED:20240612T142648Z
UID:4512-1687996800-2540159999@lesclesdelaferme.com
SUMMARY:Pass Annuel
DESCRIPTION:Venez visiter la ferme\, autant de fois que vous le souhaitez\n\n Pour les enfants de moins de 6 ans.
URL:https://lesclesdelaferme.com/event/pass-annuel/
LOCATION:Chevannes\, 6 Route du Moulin Neuf\, Chevannes\, 45210\, France
CATEGORIES:Visites Libres
ATTACH;FMTTYPE=image/jpeg:https://lesclesdelaferme.com/wp-content/uploads/2024/02/Screenshot-2024-02-19-123631.jpg
END:VEVENT
BEGIN:VEVENT
DTSTART;VALUE=DATE:20250601
DTEND;VALUE=DATE:20250602
DTSTAMP:20260419T183823
CREATED:20250127T185413Z
LAST-MODIFIED:20250127T185530Z
UID:4946-1748736000-1748822399@lesclesdelaferme.com
SUMMARY:Atelier potager - Légumes d’été\, optimiser sa saison
DESCRIPTION:Suivant les principes de la permaculture\, suivez nos ateliers potager sur l’année 2025 avec 6 journées dédiées. Cette troisième journée sera dédiée à l’optimisation de vos plantations des légumes d’été. Vous apprendrez les savoirs et techniques pour créer un écosystème cultivé productif. \nPour en savoir plus sur Léo Drevet\, c’est ici !  \nLe repas du midi est compris\, hébergement non compris (contactez-nous pour des recommendations). \n\n 
URL:https://lesclesdelaferme.com/event/atelier-potager-legumes-dete-optimiser-sa-saison/
LOCATION:Chevannes\, 6 Route du Moulin Neuf\, Chevannes\, 45210\, France
CATEGORIES:Ateliers,Jardin et nature,Non-membres
ATTACH;FMTTYPE=image/jpeg:https://lesclesdelaferme.com/wp-content/uploads/2023/12/WhatsApp-Image-2023-12-12-at-16.29.25_a4c12900.jpg
END:VEVENT
BEGIN:VEVENT
DTSTART;TZID=Europe/Paris:20250607T140000
DTEND;TZID=Europe/Paris:20250607T170000
DTSTAMP:20260419T183823
CREATED:20250127T190602Z
LAST-MODIFIED:20250127T193700Z
UID:4959-1749304800-1749315600@lesclesdelaferme.com
SUMMARY:Création d’un nichoir
DESCRIPTION:Quel nichoir pour quel oiseau ? Saviez-vous que la forme du nichoir\, celle du trou\, la hauteur du d’emplacement et l’essence de l’arbre influe sur l’espèce qui viendra y nicher. Pour tout savoir sur les nichoirs et apprendre à les construire\, venez rencontrer Didier Duchesne. Vous repartez avec votre création.
URL:https://lesclesdelaferme.com/event/creation-dun-nichoir-2/
LOCATION:Chevannes\, 6 Route du Moulin Neuf\, Chevannes\, 45210\, France
CATEGORIES:Ateliers,Non-membres,Savoir-faire
ATTACH;FMTTYPE=image/webp:https://lesclesdelaferme.com/wp-content/uploads/2025/01/aavignette-quels-nichoirs-pour-les-oiseaux-du-jardin.webp
END:VEVENT
BEGIN:VEVENT
DTSTART;TZID=Europe/Paris:20250621T090000
DTEND;TZID=Europe/Paris:20250621T140000
DTSTAMP:20260419T183823
CREATED:20250127T213550Z
LAST-MODIFIED:20250127T213550Z
UID:5008-1750496400-1750514400@lesclesdelaferme.com
SUMMARY:Cuisiner les plantes aromatiques et médicinales
DESCRIPTION:Cuisiner les plantes aromatiques et médicinales. On récolte\, on cuisine. \nAvec Anne-Sophie de 9h à 14h avec déjeuner inclus. \nDes possibilités infinis.
URL:https://lesclesdelaferme.com/event/cuisiner-les-plantes-aromatiques-et-medicinales/
LOCATION:Chevannes\, 6 Route du Moulin Neuf\, Chevannes\, 45210\, France
CATEGORIES:Ateliers,Jardin et nature,Non-membres,Savoir-faire
ATTACH;FMTTYPE=image/jpeg:https://lesclesdelaferme.com/wp-content/uploads/2025/01/OIP-2.jpg
END:VEVENT
BEGIN:VEVENT
DTSTART;TZID=Europe/Paris:20250621T100000
DTEND;TZID=Europe/Paris:20250621T113000
DTSTAMP:20260419T183823
CREATED:20250127T193005Z
LAST-MODIFIED:20250127T193101Z
UID:4975-1750500000-1750505400@lesclesdelaferme.com
SUMMARY:Balade naturaliste
DESCRIPTION:Redécouvrez la forêt\, les prairies et zones humides… Apprenez à mieux regarder autour de vous\, observez les indices laissés dans la nature par la faune et la flore. Un safari biodiversité proche de chez vous !  \nAtelier animé par Didier Duchesne.
URL:https://lesclesdelaferme.com/event/balade-naturaliste/
LOCATION:Chevannes\, 6 Route du Moulin Neuf\, Chevannes\, 45210\, France
CATEGORIES:Ateliers,Jardin et nature,Non-membres,Savoir-faire
ATTACH;FMTTYPE=image/jpeg:https://lesclesdelaferme.com/wp-content/uploads/2023/12/IMG_20231101_150047-2-scaled.jpg
END:VEVENT
BEGIN:VEVENT
DTSTART;TZID=Europe/Paris:20250627T183000
DTEND;TZID=Europe/Paris:20250627T213000
DTSTAMP:20260419T183823
CREATED:20250319T214346Z
LAST-MODIFIED:20250319T214346Z
UID:5217-1751049000-1751059800@lesclesdelaferme.com
SUMMARY:Restaurant au Clés de la Ferme
DESCRIPTION:Un dîner de chef dans un lieu atypique\, sous les étoiles\, à regarder pousser les plants. Une expérience inoubliable\, dans le décor grandiose de notre serre en verre (oui oui\, on a pas peur des mots!). Rémi Mariolles qui dirige les cuisines de l’Abbaye à Ferrières s’installera ici pour cuisiner un délicieux repas de sa composition avec comme vedettes nos légumes. On vous promet de très bons moments.\nUne arrivée à 18h30 (en option) pour une visite privilégiée des lieux\, puis le diner avec au menu (à venir) entrée\, plat\, dessert pour 65 euros avec vin inclus.\nSeulement 25 places\, uniquement sur réservation.\nAu Clés de la Ferme 6 rue du moulin neuf 45210 Chevannes.
URL:https://lesclesdelaferme.com/event/restaurant-au-cles-de-la-ferme-2/
LOCATION:Chevannes\, 6 Route du Moulin Neuf\, Chevannes\, 45210\, France
CATEGORIES:Jardin et nature,Non-membres,Savoir-faire
ATTACH;FMTTYPE=image/png:https://lesclesdelaferme.com/wp-content/uploads/2025/03/Format-Slides-insta-21.png
END:VEVENT
BEGIN:VEVENT
DTSTART;TZID=Europe/Paris:20250629T100000
DTEND;TZID=Europe/Paris:20250629T160000
DTSTAMP:20260419T183823
CREATED:20250127T191201Z
LAST-MODIFIED:20250205T225718Z
UID:4965-1751191200-1751212800@lesclesdelaferme.com
SUMMARY:Journée cueillette et cuisine de plantes sauvages
DESCRIPTION:Une journée pour découvrir les plantes sauvages comestibles qui nous entourent. Cette journée vous permettra d’apprendre à reconnaître et caractériser des plantes sauvages mais aussi de découvrir de délicieuses recettes ! La journée sera composée d’un temps de cueillette\, d’un temps de cuisine et d’un repas (compris). \nPour en savoir plus sur Emmanuelle Fabre\, Petite Pimprenelle\, c’est ici ! \n\n 
URL:https://lesclesdelaferme.com/event/journee-cueillette-et-cuisine-de-plantes-sauvages-copy/
LOCATION:Chevannes\, 6 Route du Moulin Neuf\, Chevannes\, 45210\, France
CATEGORIES:Ateliers,Jardin et nature,Non-membres,Savoir-faire
ATTACH;FMTTYPE=image/jpeg:https://lesclesdelaferme.com/wp-content/uploads/2022/07/IMG-20220704-WA0012.jpg
END:VEVENT
END:VCALENDAR