BEGIN:VCALENDAR
VERSION:2.0
PRODID:-//Les Clés de la Ferme - ECPv6.15.20//NONSGML v1.0//EN
CALSCALE:GREGORIAN
METHOD:PUBLISH
X-ORIGINAL-URL:https://lesclesdelaferme.com
X-WR-CALDESC:Évènements pour Les Clés de la Ferme
REFRESH-INTERVAL;VALUE=DURATION:PT1H
X-Robots-Tag:noindex
X-PUBLISHED-TTL:PT1H
BEGIN:VTIMEZONE
TZID:Europe/Paris
BEGIN:DAYLIGHT
TZOFFSETFROM:+0100
TZOFFSETTO:+0200
TZNAME:CEST
DTSTART:20230326T010000
END:DAYLIGHT
BEGIN:STANDARD
TZOFFSETFROM:+0200
TZOFFSETTO:+0100
TZNAME:CET
DTSTART:20231029T010000
END:STANDARD
BEGIN:DAYLIGHT
TZOFFSETFROM:+0100
TZOFFSETTO:+0200
TZNAME:CEST
DTSTART:20240331T010000
END:DAYLIGHT
BEGIN:STANDARD
TZOFFSETFROM:+0200
TZOFFSETTO:+0100
TZNAME:CET
DTSTART:20241027T010000
END:STANDARD
BEGIN:DAYLIGHT
TZOFFSETFROM:+0100
TZOFFSETTO:+0200
TZNAME:CEST
DTSTART:20250330T010000
END:DAYLIGHT
BEGIN:STANDARD
TZOFFSETFROM:+0200
TZOFFSETTO:+0100
TZNAME:CET
DTSTART:20251026T010000
END:STANDARD
END:VTIMEZONE
BEGIN:VEVENT
DTSTART;VALUE=DATE:20240101
DTEND;VALUE=DATE:20250101
DTSTAMP:20260424T134015
CREATED:20231214T153549Z
LAST-MODIFIED:20240417T151825Z
UID:4312-1704067200-1735689599@lesclesdelaferme.com
SUMMARY:Bon Cadeau - Atelier Les Clés de la Ferme
DESCRIPTION:Tresser de l’osier vivant\, apprendre à travailler la laine\, confectionner des baumes sur-mesure\, mieux connaître les plantes\, réussir son potager… tant de savoir-faire n’attendent qu’à être partagés ! \nOffre une expérience aux Clés de la Ferme en laissant le choix de l’atelier et de la date. \nLa personne pourra ensuite utiliser le bon lors de la réservation de l’atelier (réservation obligatoire pour un atelier en 2024)
URL:https://lesclesdelaferme.com/event/bon-cadeau-atelier-les-cles-de-la-ferme/
LOCATION:Chevannes\, 6 Route du Moulin Neuf\, Chevannes\, 45210\, France
CATEGORIES:Ateliers,Jardin et nature,Non-membres,Savoir-faire
ATTACH;FMTTYPE=image/jpeg:https://lesclesdelaferme.com/wp-content/uploads/2023/12/Slides-insta-3.jpg
END:VEVENT
BEGIN:VEVENT
DTSTART;TZID=Europe/Paris:20241006T150000
DTEND;TZID=Europe/Paris:20241006T170000
DTSTAMP:20260424T134015
CREATED:20231212T144041Z
LAST-MODIFIED:20231212T212822Z
UID:4252-1728226800-1728234000@lesclesdelaferme.com
SUMMARY:Atelier travail de la laine
DESCRIPTION:Démonstration de filage puis travail de la laine en feutre. Chacun repart avec sa création. \nPour en savoir plus sur Odile Touchais Leriche\, c’est ici !
URL:https://lesclesdelaferme.com/event/atelier-travail-de-la-laine-2/
LOCATION:Chevannes\, 6 Route du Moulin Neuf\, Chevannes\, 45210\, France
CATEGORIES:Ateliers,Jardin et nature,Non-membres,Savoir-faire
ATTACH;FMTTYPE=image/jpeg:https://lesclesdelaferme.com/wp-content/uploads/2023/12/IMG_3756-scaled.jpg
END:VEVENT
BEGIN:VEVENT
DTSTART;VALUE=DATE:20241018
DTEND;VALUE=DATE:20241021
DTSTAMP:20260424T134015
CREATED:20231213T154821Z
LAST-MODIFIED:20231213T154821Z
UID:4303-1729209600-1729468799@lesclesdelaferme.com
SUMMARY:Stage Permaculture - 3 jours
DESCRIPTION:Durant ce stage d’initiation à la permaculture vous apprendrez les savoirs et techniques pour créer un écosystème cultivé productif. \nPour en savoir plus sur le stage et vous inscrire pour cette session\, c’est sur le site de Chilowe\, ici !  \n\n 
URL:https://lesclesdelaferme.com/event/stage-permaculture-3-jours-2/
LOCATION:Chevannes\, 6 Route du Moulin Neuf\, Chevannes\, 45210\, France
CATEGORIES:Ateliers,Jardin et nature,Non-membres
ATTACH;FMTTYPE=image/jpeg:https://lesclesdelaferme.com/wp-content/uploads/2023/12/WhatsApp-Image-2023-12-12-at-16.29.25_a4c12900.jpg
END:VEVENT
BEGIN:VEVENT
DTSTART;VALUE=DATE:20241020
DTEND;VALUE=DATE:20241021
DTSTAMP:20260424T134015
CREATED:20231212T184810Z
LAST-MODIFIED:20240226T093345Z
UID:4289-1729382400-1729468799@lesclesdelaferme.com
SUMMARY:Journée Permaculture
DESCRIPTION:Durant ce stage d’initiation à la permaculture vous apprendrez les savoirs et techniques pour créer un écosystème cultivé productif. \nPour en savoir plus sur Léo Drevet\, c’est ici !  \nLe repas du midi est compris\, hébergement non compris (contactez-nous pour des recommendations). \n\n 
URL:https://lesclesdelaferme.com/event/journee-permaculture-2/
LOCATION:Chevannes\, 6 Route du Moulin Neuf\, Chevannes\, 45210\, France
CATEGORIES:Ateliers,Jardin et nature,Non-membres
ATTACH;FMTTYPE=image/jpeg:https://lesclesdelaferme.com/wp-content/uploads/2023/12/WhatsApp-Image-2023-12-12-at-16.29.25_a4c12900.jpg
END:VEVENT
BEGIN:VEVENT
DTSTART;TZID=Europe/Paris:20241026T100000
DTEND;TZID=Europe/Paris:20241026T170000
DTSTAMP:20260424T134015
CREATED:20231212T133043Z
LAST-MODIFIED:20240226T093234Z
UID:4211-1729936800-1729962000@lesclesdelaferme.com
SUMMARY:Atelier Vannerie Sauvage
DESCRIPTION:Le matin\, une première balade vous permettra d’apprendre à reconnaître et à cueillir les végétaux utilisés en vannerie sauvage. Vous découvrirez une large palette de plantes et arbrisseaux qui se tressent et ferez l’expérience de leurs particularités\, souplesse\, couleur\, résistance… \nL’après-midi\, vous réaliserez votre premier objet en vannerie: une mangeoire ou un nichoir. Le but est d’acquérir les techniques de tressage pour être en mesure de les répliquer soi-même plus tard. \nEn savoir plus sur Frédéric de l’Association Sauvage Par Nature\, c’est ici ! \n*Déjeuner compris.
URL:https://lesclesdelaferme.com/event/atelier-vannerie-sauvage-3/
LOCATION:Chevannes\, 6 Route du Moulin Neuf\, Chevannes\, 45210\, France
CATEGORIES:Ateliers,Jardin et nature,Non-membres,Savoir-faire
ATTACH;FMTTYPE=application/pdf:https://lesclesdelaferme.com/wp-content/uploads/2023/04/DSC_0898-1.pdf
END:VEVENT
BEGIN:VEVENT
DTSTART;TZID=Europe/Paris:20241027T150000
DTEND;TZID=Europe/Paris:20241027T170000
DTSTAMP:20260424T134015
CREATED:20231212T190037Z
LAST-MODIFIED:20240226T092748Z
UID:4292-1730041200-1730048400@lesclesdelaferme.com
SUMMARY:Citrouilles et autres trouilles d'Halloween
DESCRIPTION:A quelques jours de cette fête effrayante\, venez préparer vos citrouilles en monstrueuse compagnie. Autres trouilles garanties ! \n6 -12 ans\, accompagnés\, goûter compris (et vous repartez avec une belle citrouille découpée ou dessinée)
URL:https://lesclesdelaferme.com/event/citrouilles-et-autres-trouilles-dhalloween/
LOCATION:Chevannes\, 6 Route du Moulin Neuf\, Chevannes\, 45210\, France
CATEGORIES:Ateliers,Enfants,Jardin et nature,Non-membres
ATTACH;FMTTYPE=image/jpeg:https://lesclesdelaferme.com/wp-content/uploads/2023/12/WhatsApp-Image-2023-11-15-at-17.46.05_f45635b0.jpg
END:VEVENT
END:VCALENDAR